BEGIN:VCALENDAR
VERSION:2.0
PRODID:Events Booking
BEGIN:VEVENT
UID:69e63fd3022af
SUMMARY:ineltec 2026
DESCRIPTION:Save the date!Die ineltec versammelt die Schweizer Elektrobranc
 he. Produktneuheiten\, Wissenstransfer und persönlicher Austausch stehen 
 im Fokus des Konzepts.
LOCATION:Wallisellenstrasse\, Zürich\, 8050 Zürich\, Schweiz
DTSTART:20260909T080000Z
DTEND:20260910T150000Z
DTSTAMP:20250108T125617Z
ORGANIZER;CN=Admin GNI:MAILTO:sekretariat@g-n-i.ch
GEO:47.41108;8.553334
X-APPLE-STRUCTURED-LOCATION;VALUE=URI;X-ADDRESS=Wallisellenstrasse\, Züric
 h\, 8050 Zürich\, Schweiz;X-APPLE-RADIUS=72;X-TITLE=Zürich\, Messe Züri
 ch:47.41108;8.553334
END:VEVENT
BEGIN:VEVENT
UID:69e63fd302b0b
SUMMARY:ISH 2027
DESCRIPTION:Die Weltleitmesse für Wasser\, Wärme\, Luft. Details folgen i
 n gegebener Zeit.
LOCATION:Ludwig-Erhard-Anlage\, Frankfurt am Main\, 60327 Hessen\, Deutschl
 and
DTSTART:20270315T080000Z
DTEND:20270319T160000Z
DTSTAMP:20250618T060759Z
ORGANIZER;CN=Admin GNI:MAILTO:sekretariat@g-n-i.ch
GEO:50.111844;8.650851
X-APPLE-STRUCTURED-LOCATION;VALUE=URI;X-ADDRESS=Ludwig-Erhard-Anlage\, Fran
 kfurt am Main\, 60327 Hessen\, Deutschland;X-APPLE-RADIUS=72;X-TITLE=Franc
 fort\, Messe Frankfurt:50.111844;8.650851
END:VEVENT
END:VCALENDAR